BEGIN:VCALENDAR
VERSION:2.0
PRODID:-//The Bon Temps Social Club of San Diego - ECPv6.15.20//NONSGML v1.0//EN
CALSCALE:GREGORIAN
METHOD:PUBLISH
X-ORIGINAL-URL:https://www.icajunzydeco.com
X-WR-CALDESC:Events for The Bon Temps Social Club of San Diego
REFRESH-INTERVAL;VALUE=DURATION:PT1H
X-Robots-Tag:noindex
X-PUBLISHED-TTL:PT1H
BEGIN:VTIMEZONE
TZID:America/Los_Angeles
BEGIN:DAYLIGHT
TZOFFSETFROM:-0800
TZOFFSETTO:-0700
TZNAME:PDT
DTSTART:20160313T100000
END:DAYLIGHT
BEGIN:STANDARD
TZOFFSETFROM:-0700
TZOFFSETTO:-0800
TZNAME:PST
DTSTART:20161106T090000
END:STANDARD
BEGIN:DAYLIGHT
TZOFFSETFROM:-0800
TZOFFSETTO:-0700
TZNAME:PDT
DTSTART:20170312T100000
END:DAYLIGHT
BEGIN:STANDARD
TZOFFSETFROM:-0700
TZOFFSETTO:-0800
TZNAME:PST
DTSTART:20171105T090000
END:STANDARD
BEGIN:DAYLIGHT
TZOFFSETFROM:-0800
TZOFFSETTO:-0700
TZNAME:PDT
DTSTART:20180311T100000
END:DAYLIGHT
BEGIN:STANDARD
TZOFFSETFROM:-0700
TZOFFSETTO:-0800
TZNAME:PST
DTSTART:20181104T090000
END:STANDARD
END:VTIMEZONE
BEGIN:VEVENT
DTSTART;TZID=America/Los_Angeles:20171022T080000
DTEND;TZID=America/Los_Angeles:20171022T120000
DTSTAMP:20260424T095750
CREATED:20171022T203222Z
LAST-MODIFIED:20171022T203519Z
UID:1996-1508659200-1508673600@www.icajunzydeco.com
SUMMARY:Theo & Zydeco Patrol
DESCRIPTION:Sunday\, October 22nd\n3:00pm-7:00pm – Free!\nLocation: Barefoot Bar Paradise Point\nTheo & the Zydeco Patrol will be playing for a free concert this Sunday. \nThe venue is a restaurant/bar so please support them by buying food or drinks.\nThis is an outdoor venue and yes\, there is dancing. Bring a hat if you are sensitive to the sun.\nThere are umbrellas but the dance floor is sunny.\nDress is very casual. Come early if you want to snag a table.
URL:https://www.icajunzydeco.com/event/theo-zydeco-patrol/
LOCATION:Paradise Point Bar & Grill\, 1404 Vacation Rd\, San Diego\, CA\, 92109\, United States
CATEGORIES:BTSC Events,Zydeco Dance
ATTACH;FMTTYPE=image/jpeg:https://www.icajunzydeco.com/wp-content/uploads/2017/10/Theo_300.jpg
END:VEVENT
END:VCALENDAR