BEGIN:VCALENDAR
VERSION:2.0
PRODID:-//The Bon Temps Social Club of San Diego - ECPv6.15.20//NONSGML v1.0//EN
CALSCALE:GREGORIAN
METHOD:PUBLISH
X-ORIGINAL-URL:https://www.icajunzydeco.com
X-WR-CALDESC:Events for The Bon Temps Social Club of San Diego
REFRESH-INTERVAL;VALUE=DURATION:PT1H
X-Robots-Tag:noindex
X-PUBLISHED-TTL:PT1H
BEGIN:VTIMEZONE
TZID:America/Los_Angeles
BEGIN:DAYLIGHT
TZOFFSETFROM:-0800
TZOFFSETTO:-0700
TZNAME:PDT
DTSTART:20210314T100000
END:DAYLIGHT
BEGIN:STANDARD
TZOFFSETFROM:-0700
TZOFFSETTO:-0800
TZNAME:PST
DTSTART:20211107T090000
END:STANDARD
BEGIN:DAYLIGHT
TZOFFSETFROM:-0800
TZOFFSETTO:-0700
TZNAME:PDT
DTSTART:20220313T100000
END:DAYLIGHT
BEGIN:STANDARD
TZOFFSETFROM:-0700
TZOFFSETTO:-0800
TZNAME:PST
DTSTART:20221106T090000
END:STANDARD
BEGIN:DAYLIGHT
TZOFFSETFROM:-0800
TZOFFSETTO:-0700
TZNAME:PDT
DTSTART:20230312T100000
END:DAYLIGHT
BEGIN:STANDARD
TZOFFSETFROM:-0700
TZOFFSETTO:-0800
TZNAME:PST
DTSTART:20231105T090000
END:STANDARD
BEGIN:DAYLIGHT
TZOFFSETFROM:-0800
TZOFFSETTO:-0700
TZNAME:PDT
DTSTART:20240310T100000
END:DAYLIGHT
BEGIN:STANDARD
TZOFFSETFROM:-0700
TZOFFSETTO:-0800
TZNAME:PST
DTSTART:20241103T090000
END:STANDARD
END:VTIMEZONE
BEGIN:VEVENT
DTSTART;TZID=America/Los_Angeles:20230708T182000
DTEND;TZID=America/Los_Angeles:20230708T211500
DTSTAMP:20260423T211720
CREATED:20230320T114837Z
LAST-MODIFIED:20230625T172714Z
UID:2735-1688840400-1688850900@www.icajunzydeco.com
SUMMARY:2nd Saturday Dance with David Sousa & the Zydeco Mudbugs
DESCRIPTION:2nd Saturday Dance!\nCome on out for a Good Time at the upcoming “2nd Saturday’s Bon Temps Social Club Dance” with David Sousa & The Zydeco Mudbugs! \nSaturday\, July 8th\, 2023\n \nEnjoy A Complementary Dance Lesson beforehand\,\nDance Lesson Begins at 6:20\nLive Music 7:00 pm – 9:15’ish pm \nCost: $10\nLocation: War Memorial Building\, Balboa Park\n…details through the link below.. \n3325 Zoo Drive\, San Diego\, CA 92101 (Balboa Park) \nHot Zydeco in Southern CA! Using the Cajun single row and triple row diatonic accordions\, and with songs in Louisiana French and English\, David Sousa & the Zydeco Mudbugs feature some of the best of traditional and contemporary Zydeco around\, from the early zydeco pioneers up to the modern innovators. Since 1998\, the Zydeco Mudbugs have been bringing the heat of Louisiana Zydeco music to the festivals\, dance halls\, clubs and parties all over SoCal and beyond.  Find the Zydeco Mudbugs on Facebook. \nMonthly dances of the Bon Temps Social Club of San Diego feature Louisiana-style live music with a dance lesson for beginners before the dance. They are usually held on the second Saturday evening of the month at the War Memorial Building in San Diego’s beautiful Balboa Park. The free-with-admission dance lesson begins at 6:20 p.m.\, and the open dancing to live music is 7:00 p.m. until 9:15 p.m. \nWe certainly hope you will choose to join us at one of our dances\, and discover for yourself how much fun dancing to Louisiana-style music can be. \nBon Temps Facebook page… \nhttps://www.facebook.com/profile.php?id=100063565810841 \n  \n 
URL:https://www.icajunzydeco.com/event/july-8th-2nd-saturday-dance/
LOCATION:War Memorial Building\, 3325 Zoo Dr.\, San Diego\, CA\, United States
CATEGORIES:2nd Saturday Dance,BTSC Events,Dance Instruction,Dancing,Live Music,Zydeco Dance
ATTACH;FMTTYPE=image/jpeg:https://www.icajunzydeco.com/wp-content/uploads/2015/09/David_Sousa__The_Zydeco_Mudbugs_image-500x376.jpg
ORGANIZER;CN="The Bon Temps Social Club of San Diego":MAILTO:icajunzydeco@gmail.com
END:VEVENT
BEGIN:VEVENT
DTSTART;TZID=America/Los_Angeles:20230304T170000
DTEND;TZID=America/Los_Angeles:20230305T230000
DTSTAMP:20260423T211720
CREATED:20230214T204908Z
LAST-MODIFIED:20230214T204908Z
UID:3305-1677949200-1678057200@www.icajunzydeco.com
SUMMARY:Six String Society Mardi Gras Cruise
DESCRIPTION:Some of the finest acts in San Diego are set to perform on this year’s Six String Society Mard Gras cruise on the beautiful WD Evans sternwheeler down on Mission Bay. In addition to 6 full bands and 2 solo artists this amazing vessel will be cruising the calm waters of Mission Bay for 3 1/2 hours. Our featured acts this year include Blues & Soul International star Ms. Whitney Shay and her great band\, the Zydeco Mudbugs\, Sure Fire Soul Ensemble\, Lady Dottie and the Diamonds\, Euphoria Brass Band\, and Sue Palmer & her Motel Swing orchestra. Plus\, solo artists Ben Powell and Robin Henkel! There will be dancing on all three levels with non-stop music for 6 hours! Also\, our VIP dinner cruise package will include beautiful Southern Cajun cuisine and even dessert! And yes\, there will be vegan options that include beautiful grilled vegetables along with a nice dessert. Please note\, the sooner U purchase VIP reserved tickets the closer your table will be the bands. Plus\, our VIP dinner guests will board at 5 PM with the general admission passengers boarding at 6:30. So really\, come join the fun!  \nTickets run $55 and up.
URL:https://www.icajunzydeco.com/event/six-string-society-mardi-gras-cruise/
LOCATION:Bahia Resort\, 998 West Mission Bay Drive\, San Diego\, CA\, 92109\, United States
CATEGORIES:Community Events,Dancing,Live Music
ATTACH;FMTTYPE=image/png:https://www.icajunzydeco.com/wp-content/uploads/2023/02/The_Mardi_Gras_Cruise_Six_String_Society_.png
END:VEVENT
BEGIN:VEVENT
DTSTART;TZID=America/Los_Angeles:20230219T120000
DTEND;TZID=America/Los_Angeles:20230219T150000
DTSTAMP:20260423T211720
CREATED:20230201T215807Z
LAST-MODIFIED:20230201T221210Z
UID:3291-1676808000-1676818800@www.icajunzydeco.com
SUMMARY:Curley Taylor and Zydeco Trouble for Mardi Gras 2023 Dancing
DESCRIPTION:Curley Taylor and his band\, Zydeco Trouble\, hail from the heart of Creole country in Louisiana. Curley’s soulful\, bluesy vocals and the band’s hard driving zydeco beat blend to create their unique style of zydeco and blues that keeps audiences dancing. It’s always a party when Zydeco Trouble comes to town. \nThere will be a dance lesson from 11 – 11:45 AM.  This will be in lieu of our regular February War Memorial Dance.
URL:https://www.icajunzydeco.com/event/curley-taylor-and-zydeco-trouble-for-mardi-gras-dancing/
LOCATION:Tio Leo’s\, 5302 Napa St.\, San Diego\, United States
CATEGORIES:Dancing,Live Music,San Diego Area Music,Zydeco Dance
ATTACH;FMTTYPE=image/jpeg:https://www.icajunzydeco.com/wp-content/uploads/2022/07/edited_Curley-Taylor_512.jpg
END:VEVENT
BEGIN:VEVENT
DTSTART;TZID=America/Los_Angeles:20230114T180000
DTEND;TZID=America/Los_Angeles:20230114T211500
DTSTAMP:20260423T211720
CREATED:20221222T203345Z
LAST-MODIFIED:20221222T203751Z
UID:3282-1673719200-1673730900@www.icajunzydeco.com
SUMMARY:January 2nd Saturday Dance
DESCRIPTION:The Bon Temps Social Club 2nd Saturday Dances Are Back! \nYou Will Not Want to Miss This!  It’s a Dance Party! \nOur next BTSC “2nd Saturday Dance” is January 14\, 2023\nfeaturing Billy Lee and the Gulf Coasters. \nThey will be playing Vintage and Western Swing\,\nBoogie Woogie\, and some Cajun & Zydeco. \nDoors open: 6:00 pm \nDance lesson: 6:20 pm \nBand: 7 – 9:15 pm
URL:https://www.icajunzydeco.com/event/january-2nd-saturday-dance/
LOCATION:War Memorial Building\, 3325 Zoo Dr.\, San Diego\, CA\, United States
CATEGORIES:2nd Saturday Dance,BTSC Events,Community Events,Dance Instruction,Dancing,Live Music,San Diego Area Music,Zydeco Dance
ATTACH;FMTTYPE=image/jpeg:https://www.icajunzydeco.com/wp-content/uploads/2022/12/Billy_Gulfcoasters-pic.jpeg
END:VEVENT
BEGIN:VEVENT
DTSTART;TZID=America/Los_Angeles:20221112T180000
DTEND;TZID=America/Los_Angeles:20221112T211500
DTSTAMP:20260423T211720
CREATED:20221106T013954Z
LAST-MODIFIED:20221107T163610Z
UID:3233-1668276000-1668287700@www.icajunzydeco.com
SUMMARY:November 12th\, 2nd Saturday Dance
DESCRIPTION:The Bon Temps Saturday Night Dances are Back!\n\nDon’t Miss this! It’s a Zydeco Party! \nOur November “2nd Saturday Dance” is November 12th featuring “Dwight ‘Black Cat’ Carrier and Ruben Moreno”. \nWar Memorial Building in Balboa Park. \nDoors open: 6:00 pm \nDance lesson: 6:20 pm \nBand: 7 – 9:15 pm
URL:https://www.icajunzydeco.com/event/november-12th-2nd-saturday-dance/
LOCATION:War Memorial Building\, 3325 Zoo Dr.\, San Diego\, CA\, United States
CATEGORIES:2nd Saturday Dance,BTSC Events,Dancing,Live Music,Zydeco Dance
ATTACH;FMTTYPE=image/jpeg:https://www.icajunzydeco.com/wp-content/uploads/2022/11/Zydeco-Party.jpg
END:VEVENT
BEGIN:VEVENT
DTSTART;TZID=America/Los_Angeles:20220903T172000
DTEND;TZID=America/Los_Angeles:20220903T213000
DTSTAMP:20260423T211720
CREATED:20220807T210345Z
LAST-MODIFIED:20220808T221946Z
UID:3154-1662225600-1662240600@www.icajunzydeco.com
SUMMARY:Bruce Daigrepont Cajun Band
DESCRIPTION:Come out and dance to the Bruce Daigrepont Cajun Band at the beautiful Balboa Park Club! \nWhat makes Bruce Daigrepont’s live performances so special is the air of freewheeling spontaneity which prevails over everything that happens. Bruce never uses a “set list.” Instead\, he maintains a floating repertoire of more than two hundred songs\, from the traditional Cajun waltzes and two-steps to those of his own creation\, to ancient fiddle reels\, deep blues\, swamp pop\, Zydeco and R&B. On stage\, he is free to shuffle these songs around at will. Or\, as Bruce so aptly puts it\, “I just play whatever song starts to come out of my fingers\,” while the band hangs on for dear life. Consequently\, no two Bruce Daigrepont concerts are ever the same. It’s and exhilarating experience\, for audiences and band members alike.  www.brucedaigrepont.org/ \nEnjoy the expansive dance floor and big beautiful room at the Balboa Park Club. \nSaturday September 3rd; Lesson:  5:20 – 6 p.m.; Band:  6 – 9:30 p.m.; $12 cover at the door
URL:https://www.icajunzydeco.com/event/bruce-daigrepont-cajun-band/
LOCATION:Balboa Park Club\, 2144 Pan American Rd. W\, San Diego\, CA\, 92101\, United States
CATEGORIES:2nd Saturday Dance,BTSC Events,Dance Instruction,Dancing
ATTACH;FMTTYPE=image/jpeg:https://www.icajunzydeco.com/wp-content/uploads/2022/08/BruceD_600x600.jpg
END:VEVENT
BEGIN:VEVENT
DTSTART;TZID=America/Los_Angeles:20220814T160000
DTEND;TZID=America/Los_Angeles:20220814T190000
DTSTAMP:20260423T211720
CREATED:20220707T015610Z
LAST-MODIFIED:20220725T204457Z
UID:3145-1660492800-1660503600@www.icajunzydeco.com
SUMMARY:Curley Taylor at Tio Leos
DESCRIPTION:Curley Taylor and his band\, Zydeco Trouble\, hail from the heart of Creole country in Louisiana. Curley’s soulful\, bluesy vocals and the band’s hard driving zydeco beat blend to create their unique style of zydeco and blues that keeps audiences dancing. It’s always a party when Zydeco Trouble comes to town. \n$12 COVER at Door (INDOOR STAGE)
URL:https://www.icajunzydeco.com/event/curley-taylor-and-his-band-zydeco-trouble-hail-from-the-heart-of-creole-country-in-louisiana-curleys-soulful-bluesy-vocals-and-the-bands-hard-driving-zydeco-beat-blend-to-create-their-unique-s/
LOCATION:Tio Leo’s\, 5302 Napa Street\, San Diego\, 92110
CATEGORIES:BTSC Events,Dancing,Live Music,Zydeco Dance
ATTACH;FMTTYPE=image/jpeg:https://www.icajunzydeco.com/wp-content/uploads/2022/07/edited_Curley-Taylor_512.jpg
END:VEVENT
BEGIN:VEVENT
DTSTART;TZID=America/Los_Angeles:20220709T182000
DTEND;TZID=America/Los_Angeles:20220709T211500
DTSTAMP:20260423T211720
CREATED:20220705T191636Z
LAST-MODIFIED:20220705T191926Z
UID:3126-1657390800-1657401300@www.icajunzydeco.com
SUMMARY:Saturday Night Dance - July 9
DESCRIPTION:Pappion\, Plauche and Pennison\nCajun Creole Music\nMonthly dances of the Bon Temps Social Club feature Louisiana-style live music with a dance lesson for beginners before the dance. \nPappion\, Plauché and Pennison are carrying on the Creole tradition of passing the music from one generation to the next. The band is born out the family and personal connections between Creole legends and is an embodiment of Louisiana natives reflecting and preserving their culture in their new California home. Dempsey Pappion\, on accordion and washboard and Guy Martin Plauché\, on fiddle bring their creole traditions from Lake Charles and Avoyelles parishes respectively. Come experience the living history of creole music tradition! \nThe free-with-admission dance lesson begins at 6:20 p.m.\, and the open dancing to live music is 7:00 p.m. until 9:15 p.m. The philosophy of the club is “If you’re smiling you’re doing it right” — which is another way of saying everyone at any age or skill level is welcome at our dances. \nWe certainly hope you will choose to join us at one of our dances\, and discover for yourself how much fun dancing to Louisiana-style music can be. \nWar Memorial Building\n3325 Zoo Drive\nSan Diego\, CA 92101 \n6:20pm Lesson\n7:00pm Dance till 9:15pm \nCost: $10 \nBon Temps Facebook page…\nhttps://www.facebook.com/Bon-Temps-Social-Club-208816275875982/ \nCome Pass a Good Time 🙂
URL:https://www.icajunzydeco.com/event/saturday-night-dance-july-9/
LOCATION:War Memorial Building\, 3325 Zoo Dr.\, San Diego\, CA\, United States
CATEGORIES:2nd Saturday Dance,BTSC Events,Dance Instruction,Dancing,Live Music
ATTACH;FMTTYPE=image/png:https://www.icajunzydeco.com/wp-content/uploads/2022/07/Gator-2022-photo_Fontenot-3-by-Al-Gardner-e1657047837222.png
END:VEVENT
BEGIN:VEVENT
DTSTART;TZID=America/Los_Angeles:20220122T210000
DTEND;TZID=America/Los_Angeles:20220122T210000
DTSTAMP:20260423T211720
CREATED:20221222T195614Z
LAST-MODIFIED:20221222T200428Z
UID:3276-1642885200-1642885200@www.icajunzydeco.com
SUMMARY:January test Saturday Dance
DESCRIPTION:Our next BTSC “2nd Saturday Dance” is January 14\, 2023 featuring Billy Lee and the Gulf Coasters. \nThey will be playing Vintage and Western Swing\, Boogie Woogie\, and some Cajun & Zydeco..
URL:https://www.icajunzydeco.com/event/january-3rd-saturday-dance/
LOCATION:War Memorial Building\, 3325 Zoo Dr.\, San Diego\, CA\, United States
CATEGORIES:2nd Saturday Dance,BTSC Events,Community Events,Dancing,Live Music,San Diego Area Music,Zydeco Dance
ATTACH;FMTTYPE=image/jpeg:https://www.icajunzydeco.com/wp-content/uploads/2022/12/Billy_Gulfcoasters-pic.jpeg
END:VEVENT
END:VCALENDAR