BEGIN:VCALENDAR
VERSION:2.0
PRODID:-//The Bon Temps Social Club of San Diego - ECPv6.15.20//NONSGML v1.0//EN
CALSCALE:GREGORIAN
METHOD:PUBLISH
X-WR-CALNAME:The Bon Temps Social Club of San Diego
X-ORIGINAL-URL:https://www.icajunzydeco.com
X-WR-CALDESC:Events for The Bon Temps Social Club of San Diego
REFRESH-INTERVAL;VALUE=DURATION:PT1H
X-Robots-Tag:noindex
X-PUBLISHED-TTL:PT1H
BEGIN:VTIMEZONE
TZID:America/Los_Angeles
BEGIN:DAYLIGHT
TZOFFSETFROM:-0800
TZOFFSETTO:-0700
TZNAME:PDT
DTSTART:20160313T100000
END:DAYLIGHT
BEGIN:STANDARD
TZOFFSETFROM:-0700
TZOFFSETTO:-0800
TZNAME:PST
DTSTART:20161106T090000
END:STANDARD
BEGIN:DAYLIGHT
TZOFFSETFROM:-0800
TZOFFSETTO:-0700
TZNAME:PDT
DTSTART:20170312T100000
END:DAYLIGHT
BEGIN:STANDARD
TZOFFSETFROM:-0700
TZOFFSETTO:-0800
TZNAME:PST
DTSTART:20171105T090000
END:STANDARD
BEGIN:DAYLIGHT
TZOFFSETFROM:-0800
TZOFFSETTO:-0700
TZNAME:PDT
DTSTART:20180311T100000
END:DAYLIGHT
BEGIN:STANDARD
TZOFFSETFROM:-0700
TZOFFSETTO:-0800
TZNAME:PST
DTSTART:20181104T090000
END:STANDARD
BEGIN:DAYLIGHT
TZOFFSETFROM:-0800
TZOFFSETTO:-0700
TZNAME:PDT
DTSTART:20190310T100000
END:DAYLIGHT
BEGIN:STANDARD
TZOFFSETFROM:-0700
TZOFFSETTO:-0800
TZNAME:PST
DTSTART:20191103T090000
END:STANDARD
BEGIN:DAYLIGHT
TZOFFSETFROM:-0800
TZOFFSETTO:-0700
TZNAME:PDT
DTSTART:20200308T100000
END:DAYLIGHT
BEGIN:STANDARD
TZOFFSETFROM:-0700
TZOFFSETTO:-0800
TZNAME:PST
DTSTART:20201101T090000
END:STANDARD
BEGIN:DAYLIGHT
TZOFFSETFROM:-0800
TZOFFSETTO:-0700
TZNAME:PDT
DTSTART:20210314T100000
END:DAYLIGHT
BEGIN:STANDARD
TZOFFSETFROM:-0700
TZOFFSETTO:-0800
TZNAME:PST
DTSTART:20211107T090000
END:STANDARD
BEGIN:DAYLIGHT
TZOFFSETFROM:-0800
TZOFFSETTO:-0700
TZNAME:PDT
DTSTART:20220313T100000
END:DAYLIGHT
BEGIN:STANDARD
TZOFFSETFROM:-0700
TZOFFSETTO:-0800
TZNAME:PST
DTSTART:20221106T090000
END:STANDARD
BEGIN:DAYLIGHT
TZOFFSETFROM:-0800
TZOFFSETTO:-0700
TZNAME:PDT
DTSTART:20230312T100000
END:DAYLIGHT
BEGIN:STANDARD
TZOFFSETFROM:-0700
TZOFFSETTO:-0800
TZNAME:PST
DTSTART:20231105T090000
END:STANDARD
BEGIN:DAYLIGHT
TZOFFSETFROM:-0800
TZOFFSETTO:-0700
TZNAME:PDT
DTSTART:20240310T100000
END:DAYLIGHT
BEGIN:STANDARD
TZOFFSETFROM:-0700
TZOFFSETTO:-0800
TZNAME:PST
DTSTART:20241103T090000
END:STANDARD
BEGIN:DAYLIGHT
TZOFFSETFROM:-0800
TZOFFSETTO:-0700
TZNAME:PDT
DTSTART:20250309T100000
END:DAYLIGHT
BEGIN:STANDARD
TZOFFSETFROM:-0700
TZOFFSETTO:-0800
TZNAME:PST
DTSTART:20251102T090000
END:STANDARD
BEGIN:DAYLIGHT
TZOFFSETFROM:-0800
TZOFFSETTO:-0700
TZNAME:PDT
DTSTART:20260308T100000
END:DAYLIGHT
BEGIN:STANDARD
TZOFFSETFROM:-0700
TZOFFSETTO:-0800
TZNAME:PST
DTSTART:20261101T090000
END:STANDARD
END:VTIMEZONE
BEGIN:VEVENT
DTSTART;TZID=America/Los_Angeles:20250510T210000
DTEND;TZID=America/Los_Angeles:20250511T000000
DTSTAMP:20260423T152050
CREATED:20250412T214047Z
LAST-MODIFIED:20250502T175158Z
UID:3658-1746910800-1746921600@www.icajunzydeco.com
SUMMARY:Gator By The Bay Sat Night Dance
DESCRIPTION:Celebrate the vibrant\nLouisiana-Texas music scene!\nThe Bon Temps Social Club hosts a “Quintuple Crown Affair”. \nHeadliner Wayne Singleton & the Same Ol’ 2 Step takes the stage at 9 pm\nwith guest appearances by Steve Riley\, Nathan Williams\, Blake Miller and Ruben Moreno.\n$32 at the door. Doors open at 8 pm.\nFull bar and the best dance music you’ll hear this side of Louisiana! \nThese five are sure to deliver an unforgettable experience!
URL:https://www.icajunzydeco.com/event/gator-by-the-bay-saturday-night-dance/
LOCATION:Sheraton Hotel Bay Tower – Fairbanks Ballroom\, 1590 Harbor Island Dr\, San Diego\, CA\, 92101\, United States
CATEGORIES:BTSC Events,Dancing,Festival,Live Music,Zydeco Dance
ATTACH;FMTTYPE=image/png:https://www.icajunzydeco.com/wp-content/uploads/2025/04/WayneCropped-for-EV.png
ORGANIZER;CN="Gator By The Bay":MAILTO:gator@gatorbythrbay.com
END:VEVENT
BEGIN:VEVENT
DTSTART;TZID=America/Los_Angeles:20221106T140000
DTEND;TZID=America/Los_Angeles:20221106T200000
DTSTAMP:20260423T152050
CREATED:20221106T011201Z
LAST-MODIFIED:20221106T014720Z
UID:3219-1667743200-1667764800@www.icajunzydeco.com
SUMMARY:Ric Lee's OB Blues Fest
DESCRIPTION:Awesome music. Great friends. So much fun!  \nPlease join us at Ric Lee’s OB Blues Fest at Winston’s in Ocean Beach tomorrow November 6th\, 2-8 pm.   \nWe will be there.  Will you? \nCasey Hensley featuring Laura Chavez\nMercedes Moore Band with special guests Brianna Eckenrod & Eva Playman\nBayou Brothers with Michele Lundeen\nChris Fast Band with Robin Henkel\nZavala Sol \n$15 in Advance $20 at the Door \nGet tickets and info thru this link.
URL:https://www.icajunzydeco.com/event/ric-lees-ob-blues-fest/
LOCATION:WInston’s\, 1921 Bacon St\, San Diego\, CA\, 92107\, United States
CATEGORIES:Community Events,Festival,Live Music
ATTACH;FMTTYPE=image/jpeg:https://www.icajunzydeco.com/wp-content/uploads/2022/11/OB-Blues-Fest-scaled.jpg
END:VEVENT
BEGIN:VEVENT
DTSTART;TZID=America/Los_Angeles:20211023T140000
DTEND;TZID=America/Los_Angeles:20211023T230000
DTSTAMP:20260423T152050
CREATED:20211007T182056Z
LAST-MODIFIED:20211007T183743Z
UID:2788-1634997600-1635030000@www.icajunzydeco.com
SUMMARY:Bostonia Ballroom Revival
DESCRIPTION:Fans of Western swing\, vintage venues and country dancing are going to LOVE this one! \nThe original Bostonia Ballroom was a hot spot for western swing music in El Cajon a half-century ago\, where some of the greatest names in country & western music came to play. \nIn the 1940s\, 50s and through the 60s\, the Bostonia was known as the Grand Ole Opry of the Southwest. \nOn regular rotation were touring acts such as Bob Wills\, Patsy Cline\, and Ray Price. Celebrities included Hank Williams\, Johnny Cash\, Merle Travis\, and Willie Nelson. Lefty Frizzell\, Spade Cooley\, and Carl Perkins were among many top artists to play the storied venue during the Golden Years of California country music. Hundreds of bands performed nearly every day for decades\, with as many as 1\,500 patrons. \nWith that history in mind\, they are re-creating the vintage Bostonia vibe\, and adding an outdoor festival as well. \nWith three hot bands performing all evening and a sizable dance floor\, the Bostonia Ballroom will be swinging once again!
URL:https://www.icajunzydeco.com/event/bostonia-ballroom-revival/
LOCATION:Bostonia Ballroom\, 1340 Broadway\, El Cajon\, CA\, 92021\, United States
CATEGORIES:Community Events,Festival,Live Music
ATTACH;FMTTYPE=image/jpeg:https://www.icajunzydeco.com/wp-content/uploads/2021/10/244319213_811822212847209_365367730247896609_n.jpg
END:VEVENT
BEGIN:VEVENT
DTSTART;TZID=America/Los_Angeles:20201017T110000
DTEND;TZID=America/Los_Angeles:20201017T210000
DTSTAMP:20260423T152050
CREATED:20200309T160012Z
LAST-MODIFIED:20200321T230745Z
UID:2716-1602932400-1602968400@www.icajunzydeco.com
SUMMARY:POSTPONED - Temecula Blues Festival
DESCRIPTION:The Old Town Blues Club in Temecula\, CA is proud to present this\, the second Temecula Blues Festival\, which represents the power of outstanding talent in blues music\, most found right here in Southern California. Andy Doty\, the proprietor of The Old Town Blues Club and the producer of the Temecula Blues Festival\, recognizes this opportunity to support the outstanding local\, national and international performers through the Temecula Blues Festival. \nYou too can do your part by purchasing tickets to this event. Not only will you receive an awesome day of live blues music\, but you will be able to contribute to the community of Temecula\, contribute to the support for live blues music and contribute to making Temecula the go to place regionally for outstanding music. You can choose to be a part of it. Hope to see you there! \n-Blues to ya!!
URL:https://www.icajunzydeco.com/event/temecula-blues-festival/
LOCATION:Civic Center Plaza\, Old Town Temecula\, 41000 Main Street\, Temecula\, CA\, United States
CATEGORIES:Community Events,Festival,Live Music
END:VEVENT
BEGIN:VEVENT
DTSTART;TZID=America/Los_Angeles:20200912T160000
DTEND;TZID=America/Los_Angeles:20200912T180000
DTSTAMP:20260423T152050
CREATED:20200905T173204Z
LAST-MODIFIED:20200905T174513Z
UID:2759-1599926400-1599933600@www.icajunzydeco.com
SUMMARY:San Diego Blues Festival
DESCRIPTION:The Jacobs & Cushman San Diego Food Bank will host the tenth annual AimLoan.com San Diego Blues Festival virtually due to the COVID-19 pandemic. The virtual concert will be live streamed online and broadcast on KUSI TV and iHeart Radio stations. All proceeds will benefit the Jacobs & Cushman San Diego Food Bank and its North County Food Bank chapter. \nThis year’s performing artists include: Tommy Castro & the Painkillers\, Mr. Sipp\, Southern Avenue\, Watermelon Slim and Whitney Shay \nFor detailed bios\, CLICK HERE. \nWhen: Saturday\, Sept. 12\, 2020 from 4 p.m. to 6 p.m. PST \nWhere: The two-hour benefit concert will be live streamed online and simultaneously broadcast on KUSI TV and iHeart Radio stations. \nTickets: The virtual event is free. The Food Bank will ask for donations during the benefit concert to support its COVID-19 hunger-relief programs.
URL:https://www.icajunzydeco.com/event/san-diego-blues-festival/
LOCATION:Online
CATEGORIES:Community Events,Festival,Fundraiser,San Diego Area Music
ATTACH;FMTTYPE=image/png:https://www.icajunzydeco.com/wp-content/uploads/2020/09/SD-BLues-Festival.png
END:VEVENT
BEGIN:VEVENT
DTSTART;TZID=America/Los_Angeles:20190126T053000
DTEND;TZID=America/Los_Angeles:20190126T083000
DTSTAMP:20260423T152050
CREATED:20180521T004726Z
LAST-MODIFIED:20190123T133657Z
UID:2267-1548480600-1548491400@www.icajunzydeco.com
SUMMARY:Theo\, Zydeco Patrol (and Guests)
DESCRIPTION:Theo w/Zydeco Patrol (and Guests)\nNext Saturday January 26th \nSpecial Guest Players include Gator-Boy Greg who will play no less than 5 songs!!  Parker shared he would like to play a couple Cajun tunes.   It will be a Cajun/Zydeco dance Jam session if you will!! \n1:30pm-2:30pm – Intermediate Zydeco lesson w/Greg after brief review zydeco basics \n2:30pm-4:30pm – Band Plays\nFree drawing for some CD’s.. \nCost $10 (The Moose Lodge gets $5 of the $10 per person) (Moose Members Free but happy to take any donations offered) \n 
URL:https://www.icajunzydeco.com/event/theo/
LOCATION:Kearney Mesa Moose Lodge\, 3636 Ruffin Rd\, San Diego\, CA\, 92123\, United States
CATEGORIES:Community Events,Dance Instruction,Festival,Live Music,Zydeco Dance
ATTACH;FMTTYPE=image/jpeg:https://www.icajunzydeco.com/wp-content/uploads/2018/02/Theo_edited_sqr.jpg
ORGANIZER;CN="Greg Benusa for Bon Temps Social Club":MAILTO:gbenusa@pacbell.net
END:VEVENT
BEGIN:VEVENT
DTSTART;TZID=America/Los_Angeles:20190118T110000
DTEND;TZID=America/Los_Angeles:20190118T130000
DTSTAMP:20260423T152050
CREATED:20180515T095846Z
LAST-MODIFIED:20190109T104842Z
UID:2332-1547809200-1547816400@www.icajunzydeco.com
SUMMARY:Blake Miller and the Old Fashioned Aces
DESCRIPTION:Blake Miller In LaJolla on Friday the 18th \n \nBlake Miller and the Old Fashioned Aces will actually be playing in La Jolla on Jan. 18!! They will be at Southern Pacific Sessions at Kalabash School of Music and the Arts\, 5725 La Jolla Blvd. 7 pm $20 \nBlake Miller & the Old Fashioned Aces are breathing new life into an old sound. It’s traditional Cajun music in a traditional setting\, but more than that\, it’s a powerhouse trio having fun.  Whether they appear as an acoustic trio or a full electric band\, finer musicians playing Cajun music cannot be found. In a world where it seems everyone is continually stretching the boundaries of Louisiana French music\, the Aces nest comfortably inside the well worn tracks of Cajun Music. From old fiddle tunes\, to classic dance floor packers\, to bilingual country classics\, their music is comfort food for the Cajun music fan.  \nFriday Jan 18th\, 2019\n6:30pm doors\n7pm show \nConcert Tickets:\n$20 (at the door)
URL:https://www.icajunzydeco.com/event/blake-miller-and-the-old-fashioned-aces/
LOCATION:Kalabash School\, 5725 La Jolla Blvd.\, La Jolla\, CA\, United States
CATEGORIES:Community Events,Festival,Live Music,Zydeco Dance
ATTACH;FMTTYPE=image/jpeg:https://www.icajunzydeco.com/wp-content/uploads/2018/05/blake.jpg
END:VEVENT
BEGIN:VEVENT
DTSTART;TZID=America/Los_Angeles:20180211T040000
DTEND;TZID=America/Los_Angeles:20180211T090000
DTSTAMP:20260423T152050
CREATED:20180205T015029Z
LAST-MODIFIED:20180205T015240Z
UID:2130-1518321600-1518339600@www.icajunzydeco.com
SUMMARY:The Boulevard Mardi Gras  Crawl
DESCRIPTION:Attendance to this event is free and unlimited. The first 50 people to reserve their spot here will have a SLICE of KINGS CAKE and BEADS ready for them upon arrival at Eppig from 12-1:30pm. \nBeer\, Beads\, and Lots of Funky Bass– Come celebrate Fête de Mardi Gras and join The Boulevard BIA for a FREE Mardi Gras Crawl in North Park lead by special guests from the Euphoria Brass Band alongside the fabulous LIPS Drag Queens. \nFestivities will begin at NOON\, where we will gather at Eppig Brewing for some brews\, tunes\, and King cake. The party crawl will set off at 1:30 along The Boulevard with special quick stops at Lips\, the patio at Barn Brewery & Cruiser Taco\, and descend west to Twisted Taps. \nFinally\, we will make our way to the iconic Lafayette Hotel where we will dance the day away and indulge in the great flavors and culture of New Orleans! \nLaissez les Bons Temps Rouler/Let the Good Times Roll!!!
URL:https://www.icajunzydeco.com/event/the-boulevard-mardi-gras-crawl/
LOCATION:Eppig Brewing\, 3052 El Cajon Blvd\, San Diego\, CA\, 92104\, United States
CATEGORIES:BTSC Events,Community Events,Festival,Live Music
ATTACH;FMTTYPE=image/jpeg:https://www.icajunzydeco.com/wp-content/uploads/2018/02/ElCajonBlvd_MG.jpg
END:VEVENT
BEGIN:VEVENT
DTSTART;VALUE=DATE:20171201
DTEND;VALUE=DATE:20171202
DTSTAMP:20260423T152050
CREATED:20170928T023435Z
LAST-MODIFIED:20190915T190521Z
UID:1440-1512090000-1512090000@www.icajunzydeco.com
SUMMARY:Balboa Park Dec. Nights
DESCRIPTION:The Bon Temps Social Club and Gator By The Bay are proud to sponsor a dynamic music stage at the 40th Annual December Nights! \nBalboa Park December Nights\, the nation’s premier holiday festival\, will take place for the 40th consecutive year on Friday\, December 1 from 3-11pm and Saturday\, December\, 2 from noon-11pm.  The largest free community festival in San Diego\, December Nights is expected to attract more than 350\,000 visitors to the park over two days to revel and enjoy the season. \nThe Bon Temps Social Club / Gator By The Bay Stage will feature non-stop Cajun\, Zydeco and Blues musicians and a comfortable dance floor. Enjoy free dance lessons between performances.  Check back for performance schedules.
URL:https://www.icajunzydeco.com/event/december-nights/
LOCATION:Balboa Park Plaza De Panama\, 1549 El Prado\, San Diego\, CA\, 92101\, United States
CATEGORIES:BTSC Events,Community Events,Festival
ATTACH;FMTTYPE=image/jpeg:https://www.icajunzydeco.com/wp-content/uploads/2017/09/BPDNElCidHeader_0-e1506564577605.jpg
ORGANIZER;CN="Balboa Park Conservancy":MAILTO:info@balboaparkconservancy.org
END:VEVENT
END:VCALENDAR