BEGIN:VCALENDAR
VERSION:2.0
PRODID:-//The Bon Temps Social Club of San Diego - ECPv6.15.20//NONSGML v1.0//EN
CALSCALE:GREGORIAN
METHOD:PUBLISH
X-WR-CALNAME:The Bon Temps Social Club of San Diego
X-ORIGINAL-URL:https://www.icajunzydeco.com
X-WR-CALDESC:Events for The Bon Temps Social Club of San Diego
REFRESH-INTERVAL;VALUE=DURATION:PT1H
X-Robots-Tag:noindex
X-PUBLISHED-TTL:PT1H
BEGIN:VTIMEZONE
TZID:America/Los_Angeles
BEGIN:DAYLIGHT
TZOFFSETFROM:-0800
TZOFFSETTO:-0700
TZNAME:PDT
DTSTART:20170312T100000
END:DAYLIGHT
BEGIN:STANDARD
TZOFFSETFROM:-0700
TZOFFSETTO:-0800
TZNAME:PST
DTSTART:20171105T090000
END:STANDARD
BEGIN:DAYLIGHT
TZOFFSETFROM:-0800
TZOFFSETTO:-0700
TZNAME:PDT
DTSTART:20180311T100000
END:DAYLIGHT
BEGIN:STANDARD
TZOFFSETFROM:-0700
TZOFFSETTO:-0800
TZNAME:PST
DTSTART:20181104T090000
END:STANDARD
BEGIN:DAYLIGHT
TZOFFSETFROM:-0800
TZOFFSETTO:-0700
TZNAME:PDT
DTSTART:20190310T100000
END:DAYLIGHT
BEGIN:STANDARD
TZOFFSETFROM:-0700
TZOFFSETTO:-0800
TZNAME:PST
DTSTART:20191103T090000
END:STANDARD
BEGIN:DAYLIGHT
TZOFFSETFROM:-0800
TZOFFSETTO:-0700
TZNAME:PDT
DTSTART:20200308T100000
END:DAYLIGHT
BEGIN:STANDARD
TZOFFSETFROM:-0700
TZOFFSETTO:-0800
TZNAME:PST
DTSTART:20201101T090000
END:STANDARD
END:VTIMEZONE
BEGIN:VEVENT
DTSTART;TZID=America/Los_Angeles:20190818T070000
DTEND;TZID=America/Los_Angeles:20190818T080000
DTSTAMP:20260423T224338
CREATED:20171205T015134Z
LAST-MODIFIED:20190812T020004Z
UID:2052-1566111600-1566115200@www.icajunzydeco.com
SUMMARY:Museum of Making Music - August 18th
DESCRIPTION:Bayou Brothers at Museum of Making Music!\n2pm put on your dancing shoes and head up to Carlsbad to the Museum of Making Music. \nThis is a museum I have longed to visit for many years but just haven’t found the time to make the haul up to Carlsbad to visit. \nThose who want to meetup before a grab a bite to eat can share ideas at the Bon Temps facebook page if wanted..  (if your not a member of the group please join to post)\nhttps://www.facebook.com/groups/13669254963/ \nLocation: 5790 Armada Dr. Carlsbad\, CA \nWebsite for the museum:\nhttps://www.museumofmakingmusic.org/visit
URL:https://www.icajunzydeco.com/event/bon-temps-social-club-febs-2nd-saturday-dance/
LOCATION:Museum of Making Music\, 5790 Armada Drive\, Carlsbad\, CA\, 92008\, United States
CATEGORIES:2nd Saturday Dance,BTSC Events,Dance Instruction
ATTACH;FMTTYPE=image/jpeg:https://www.icajunzydeco.com/wp-content/uploads/2017/12/musum.jpg
END:VEVENT
BEGIN:VEVENT
DTSTART;TZID=America/Los_Angeles:20190608T112000
DTEND;TZID=America/Los_Angeles:20190608T153000
DTSTAMP:20260423T224338
CREATED:20181211T082542Z
LAST-MODIFIED:20190518T084819Z
UID:2463-1559992800-1560007800@www.icajunzydeco.com
SUMMARY:Theo & Zydeco Patrol - BTSC 2nd Saturday Dance - June 8th
DESCRIPTION:Featuring Theo & Zydeco Patrol\nCreating quite the tasty musical gumbo\, Theo & The Zydeco Patrol combines a variety of melodic influences from Southwest Louisiana\, where Theo grew up and where his musical odyssey began. He starts with the blues\, adds traditional Cajun\, whisks in some zydeco\, and then tosses in a little Caribbean reggae seasoning to top it all off! \nMonthly dances of the Bon Temps Social Club feature Louisiana-style live music with a dance lesson for beginners before the dance.\nThe free-with-admission dance lesson begins at 6:20 p.m.\, and the open dancing to live music is 7:00 p.m. until 10:30 p.m. The philosophy of the club is “If you’re smiling you’re doing it right” — which is another way of saying everyone at any age or skill level is welcome at our dances. \nWe certainly hope you will choose to join us at one of our dances\, and discover for yourself how much fun dancing to Louisiana-style music can be. The cost of attending our monthly dances is $10. (By the way\, if you’ve never been to one of our dances before\, your admission to your first dance is just $5.) \nLocation:\nWar Memorial Building\n3325 Zoo Drive\nSan Diego\, CA 92101 \n6:20pm Lesson\n7:00pm Dance till 10:00pm \nCost: $10 \nBon Temps Facebook page…\nhttps://www.facebook.com/Bon-Temps-Social-Club-208816275875982/ \nCome Pass a Good Time 🙂 \n 
URL:https://www.icajunzydeco.com/event/btsc-2nd-saturday-dance-february/
LOCATION:Museum of Making Music\, 5790 Armada Drive\, Carlsbad\, CA\, 92008\, United States
CATEGORIES:2nd Saturday Dance,BTSC Events,Community Events,Dance Instruction,Live Music,San Diego Area Music,Zydeco Dance
ATTACH;FMTTYPE=image/jpeg:https://www.icajunzydeco.com/wp-content/uploads/2018/12/theo7777.jpg
END:VEVENT
BEGIN:VEVENT
DTSTART;TZID=America/Los_Angeles:20190427T073000
DTEND;TZID=America/Los_Angeles:20190427T100000
DTSTAMP:20260423T224338
CREATED:20171203T004519Z
LAST-MODIFIED:20190401T011636Z
UID:2040-1556350200-1556359200@www.icajunzydeco.com
SUMMARY:Zydeco Lesson & Dance - Small Moves for Crowded Dance Floors
DESCRIPTION:**Special Lesson – Small Moves for Crowded Dance Floors**\nLesson Details: With Gator By The Bay coming up this months lesson will cover small moves for crowded dance floors as they can be Very Crowded at Gator By The Bay. \nLesson: 2:30pm – 3:30pm\nDJ Dance: 3:30pm – 5:00pm \nInstructor: Greg of http://www.LearnZydeco.com \nMusic:  We will be playing tunes from best of the best Zydeco artists: Keith Frank\, Beau Jocque\, Step Rideau\, Jeffrey Broussard\, Geno Delafose\, Zydeco Joe\, Chubby Carrier\, Rusty Metoyer\, Sean Ardoin\, Chris Ardoin and many more!! \n**Free Drawing** – When you enter the Moose Lodge take a ticket as we will do a drawing giving away several Cajun/Zydeco CD’s. \nVideo: Shown on the HUGE video screen behind the dance floor of various Zydeco festivals: \nDance Location: Kearney Mesa Moose Lodge\n3636 Ruffin Rd\, San Diego\, CA 92123\nph:  (858) 278-1938 \n(no partner needed) \nCost: $5 \nParking: Is allowed in the moose parking lot as well as the parking lot to the north of the moose lodge. \nQuestions? email \ngbenusa@pacbell.net \nor call  (619) 857-8409 \nFree Online Basic Zydeco Warmup Lesson:\nwww.ZydecoLesson.com (http://www.zydecolesson.com/) \nMeetup.com website… \nhttp://www.meetup.com/zydecosandiego \nC/Z Club Website\nhttps://www.icajunzydeco.com \nFind out why the New York Times wrote…\n“Louisiana’s Zydeco Seems To Be Rocking the World” 2/6
URL:https://www.icajunzydeco.com/event/moose-lodge-zydeco-night/
LOCATION:Kearney Mesa Moose Lodge\, 3636 Ruffin Rd\, San Diego\, CA\, 92123\, United States
CATEGORIES:Dance Instruction,Zydeco Dance
ATTACH;FMTTYPE=image/jpeg:https://www.icajunzydeco.com/wp-content/uploads/2017/12/Moose6s.jpg
ORGANIZER;CN="Greg Benusa for Bon Temps Social Club":MAILTO:gbenusa@pacbell.net
END:VEVENT
BEGIN:VEVENT
DTSTART;TZID=America/Los_Angeles:20190126T053000
DTEND;TZID=America/Los_Angeles:20190126T083000
DTSTAMP:20260423T224338
CREATED:20180521T004726Z
LAST-MODIFIED:20190123T133657Z
UID:2267-1548480600-1548491400@www.icajunzydeco.com
SUMMARY:Theo\, Zydeco Patrol (and Guests)
DESCRIPTION:Theo w/Zydeco Patrol (and Guests)\nNext Saturday January 26th \nSpecial Guest Players include Gator-Boy Greg who will play no less than 5 songs!!  Parker shared he would like to play a couple Cajun tunes.   It will be a Cajun/Zydeco dance Jam session if you will!! \n1:30pm-2:30pm – Intermediate Zydeco lesson w/Greg after brief review zydeco basics \n2:30pm-4:30pm – Band Plays\nFree drawing for some CD’s.. \nCost $10 (The Moose Lodge gets $5 of the $10 per person) (Moose Members Free but happy to take any donations offered) \n 
URL:https://www.icajunzydeco.com/event/theo/
LOCATION:Kearney Mesa Moose Lodge\, 3636 Ruffin Rd\, San Diego\, CA\, 92123\, United States
CATEGORIES:Community Events,Dance Instruction,Festival,Live Music,Zydeco Dance
ATTACH;FMTTYPE=image/jpeg:https://www.icajunzydeco.com/wp-content/uploads/2018/02/Theo_edited_sqr.jpg
ORGANIZER;CN="Greg Benusa for Bon Temps Social Club":MAILTO:gbenusa@pacbell.net
END:VEVENT
BEGIN:VEVENT
DTSTART;TZID=America/Los_Angeles:20180525T120000
DTEND;TZID=America/Los_Angeles:20180525T150000
DTSTAMP:20260423T224338
CREATED:20180319T005634Z
LAST-MODIFIED:20180521T024235Z
UID:2271-1527249600-1527260400@www.icajunzydeco.com
SUMMARY:Kevin Naquin @Elks Lodge
DESCRIPTION:Kevin Naquin And The Ossun Playboys\, a very special Cajun band from Louisiana will be playing at the Encinitas Elks Lodge on Friday May 25th. \nThe band is in town on a west coast festival tour and we were fortunate enough to get them to play one night in Encinitas at the great little Elks dance hall.   It will be high energy Cajun tunes!! \nFree gumbo will be served before the dance !!!! \nTime: 7pm…\nLocation: 1393 Windsor Rd\, Cardiff\, CA 92007 \nKevin’s website…\nhttp://www.ossunplayboys.com/
URL:https://www.icajunzydeco.com/event/kevin-naquin-the-ossun-playboys-special-event/
LOCATION:Encinitas Elks Lodge\, 1393 Windsor Rd\, Cardiff\, CA\, 92007\, United States
CATEGORIES:BTSC Events,Dance Instruction,Live Music,Zydeco Dance
ATTACH;FMTTYPE=image/jpeg:https://www.icajunzydeco.com/wp-content/uploads/2018/03/k_naquin.jpg
END:VEVENT
BEGIN:VEVENT
DTSTART;TZID=America/Los_Angeles:20180425T113000
DTEND;TZID=America/Los_Angeles:20180425T160000
DTSTAMP:20260423T224338
CREATED:20171019T082023Z
LAST-MODIFIED:20180414T072818Z
UID:1983-1524655800-1524672000@www.icajunzydeco.com
SUMMARY:Official Annual Pre-Gator Bash
DESCRIPTION:Official Annual Pre-Gator Bash\n“TASTE OF GATOR” \nSuper Dance Party\nAt Tio Leo’s\n5302 Napa Street\, San Diego\, CA\nWednesday\, April 25th\n6:30 – 11pm\nThe evening starts off with a Zydeco dance lesson from 6:30 to 7 PM by Pat Muller! \nThen it’s a fantastic lineup – a stellar mix of Gator by the Bay’s great talent !!!!!! \n\nMichele Lundeen\nSue Palmer\nMercedes Moore\nTheo and Zydeco Patrol\nRobin Henkel\nAss Pocket Whiskey Fellas\nBayou Brothers\nBill Magee\nSharifa\nSarah Rogo\n\nThere will be prizes\, raffles and lots of dancing to warm up for this years’ super exciting “Gator by the Bay” !!!!! \nFor more info on the “Gator by the Bay Festival\, May 10-13\, 2018\, please visit their website at: https://www.gatorbythebay.com/ \n 
URL:https://www.icajunzydeco.com/event/official-pre-gator-bash/
LOCATION:Tio Leo’s\, 5302 Napa Street\, San Diego\, 92110
CATEGORIES:2nd Saturday Dance,BTSC Events,Community Events,Dance Instruction,Live Music,San Diego Area Music,Zydeco Dance
ATTACH;FMTTYPE=image/jpeg:https://www.icajunzydeco.com/wp-content/uploads/2015/09/od4wBDffKR77CSCtMRBX3ZOcBMmtIkycQZ9qstsiMus.jpg
END:VEVENT
BEGIN:VEVENT
DTSTART;TZID=America/Los_Angeles:20180414T110000
DTEND;TZID=America/Los_Angeles:20180414T153000
DTSTAMP:20260423T224338
CREATED:20180319T042318Z
LAST-MODIFIED:20180410T115431Z
UID:2293-1523703600-1523719800@www.icajunzydeco.com
SUMMARY:BTSC April 2nd Saturday Dance
DESCRIPTION:April’s Second Saturday Dance will feature some of the great talent to be showcased at San Diego’s premier festival\, Gator by the Bay (it’s only 45 days away)!  April 14th at the War Memorial Building\, Balboa Park\, we will be dancing to these bands\, live and in person:\n \nThe Stilettos\nSue Palmer with Mercedes Moore\nBilly Lee & the Swamp Critters\nHigh Life Cajun Band \nTheo Bellow and Zydeco Patrol\n \nWe will have some surprise announcements for you as the event gets nearer so stay tuned!  Doors open at 6 pm; lesson at 6:20 pm and LIVE music from 7 pm ’til we’re done!  $10 cover.\n_______________________________\nMonthly dances of the Bon Temps Social Club feature Louisiana-style live music with a dance lesson for beginners before the dance. April’s Second Saturday dance will be held at the War Memorial Building in San Diego’s beautiful Balboa Park. The free-with-admission dance lesson begins at 6:20 p.m.\, and the open dancing to live music is 7:00 p.m. until 10:30 p.m. The philosophy of the club is “If you’re smiling you’re doing it right” — which is another way of saying everyone at any age or skill level is welcome at our dances. \nWe certainly hope you will choose to join us at one of our dances\, and discover for yourself how much fun dancing to Louisiana-style music can be. The cost of attending our monthly dances is $10. (By the way\, if you’ve never been to one of our dances before\, your admission to your first dance is just $5.)
URL:https://www.icajunzydeco.com/event/btsc-april-2nd-saturday-dance/
LOCATION:Museum of Making Music\, 5790 Armada Drive\, Carlsbad\, CA\, 92008\, United States
CATEGORIES:2nd Saturday Dance,BTSC Events,Dance Instruction,Live Music,Zydeco Dance
ATTACH;FMTTYPE=image/jpeg:https://www.icajunzydeco.com/wp-content/uploads/2018/03/Screenshot-2018-3-18-Album-Google.jpg
ORGANIZER;CN="The Bon Temps Social Club of San Diego":MAILTO:icajunzydeco@gmail.com
END:VEVENT
BEGIN:VEVENT
DTSTART;TZID=America/Los_Angeles:20180318T090000
DTEND;TZID=America/Los_Angeles:20180318T090000
DTSTAMP:20260423T224338
CREATED:20180117T090222Z
LAST-MODIFIED:20180319T040317Z
UID:2117-1521363600-1521363600@www.icajunzydeco.com
SUMMARY:Dana Point Zydeco Night Zydeco Mudbugs Sunday 3/18
DESCRIPTION:Stillwater Restaurant & Bar is having the Mudbugs Zydeco playing live as well as dance lessons.\n5-8pm Band Plays\, \nLocation: Stillwater\, 24701 Del Prado\, Dana Point 92629 \nSunday March 18th\, Time: 4:00 to 7:00 pm  (cost free) \nInfo:   David  (909) 527-0926 davidsousa@verizon.net
URL:https://www.icajunzydeco.com/event/dana-point-cajun-zydeco-night/
LOCATION:Stillwater\, 24701 Del Prado\, Dana Point\, CA\, 92629\, United States
CATEGORIES:Dance Instruction,Live Music,Zydeco Dance
ATTACH;FMTTYPE=image/jpeg:https://www.icajunzydeco.com/wp-content/uploads/2015/09/David_Sousa__The_Zydeco_Mudbugs_image-500x376.jpg
END:VEVENT
BEGIN:VEVENT
DTSTART;TZID=America/Los_Angeles:20180210T102000
DTEND;TZID=America/Los_Angeles:20180210T143000
DTSTAMP:20260423T224338
CREATED:20180214T051026Z
LAST-MODIFIED:20180221T051435Z
UID:2166-1518258000-1518273000@www.icajunzydeco.com
SUMMARY:BTSC April's Second Sat Dance
DESCRIPTION:Monthly dances of the Bon Temps Social Club feature Louisiana-style live music with a dance lesson for beginners before the dance. April’s Second Saturday dance will be held at the War Memorial Building in San Diego’s beautiful Balboa Park. The free-with-admission dance lesson begins at 6:20 p.m.\, and the open dancing to live music is 7:00 p.m. until 10:30 p.m. The philosophy of the club is “If you’re smiling you’re doing it right” — which is another way of saying everyone at any age or skill level is welcome at our dances. \nWe certainly hope you will choose to join us at one of our dances\, and discover for yourself how much fun dancing to Louisiana-style music can be. The cost of attending our monthly dances is $10. (By the way\, if you’ve never been to one of our dances before\, your admission to your first dance is just $5.) \n\nApril’s Second Saturday Dance\n-April 14-\nFeatures Theo & Zydeco Patrol
URL:https://www.icajunzydeco.com/event/btsc-april-2nd-sat-dance/
LOCATION:CA
CATEGORIES:2nd Saturday Dance,BTSC Events,Dance Instruction,Live Music,San Diego Area Music,Zydeco Dance
ATTACH;FMTTYPE=image/jpeg:https://www.icajunzydeco.com/wp-content/uploads/2018/02/Theo_edited_sqr.jpg
END:VEVENT
BEGIN:VEVENT
DTSTART;TZID=America/Los_Angeles:20180115T101500
DTEND;TZID=America/Los_Angeles:20180115T130000
DTSTAMP:20260423T224338
CREATED:20170928T002616Z
LAST-MODIFIED:20171221T063831Z
UID:1372-1516011300-1516021200@www.icajunzydeco.com
SUMMARY:Third Monday Zydeco Dance
DESCRIPTION:Every Third Monday Zydeco Dance\n\n6:15pm – 6:45pm Zydeco Basics Lesson \n6:45pm – 7:15pm Intermediate & Advanced Zydeco Lesson \n7:15pm – 9:00pm Zydeco DJ Dance \nCost: $5 cover.  Admission enters you in drawing for CDs and other goodies\, and dance lessons\nLocation: Kearney Mesa Moose Lodge\, 3636 Ruffin Rd.\, San Diego\, CA 92123\, phone 619-542-1462. Questions: Greg\, 619-857-8409\, email: greg@zydecoach.com \nFree Online Zydeco Warmup Lesson: www.ZydecoLesson.com
URL:https://www.icajunzydeco.com/event/third-monday-zydeco-dance/
LOCATION:Kearney Mesa Moose Lodge\, 3636 Ruffin Rd\, San Diego\, CA\, 92123\, United States
CATEGORIES:BTSC Events,Dance Instruction,Zydeco Dance
ATTACH;FMTTYPE=image/jpeg:https://www.icajunzydeco.com/wp-content/uploads/2017/09/MooseLodge.jpg
ORGANIZER;CN="Greg Benusa for Bon Temps Social Club":MAILTO:gbenusa@pacbell.net
END:VEVENT
END:VCALENDAR