BEGIN:VCALENDAR
VERSION:2.0
PRODID:-//The Bon Temps Social Club of San Diego - ECPv6.15.20//NONSGML v1.0//EN
CALSCALE:GREGORIAN
METHOD:PUBLISH
X-ORIGINAL-URL:https://www.icajunzydeco.com
X-WR-CALDESC:Events for The Bon Temps Social Club of San Diego
REFRESH-INTERVAL;VALUE=DURATION:PT1H
X-Robots-Tag:noindex
X-PUBLISHED-TTL:PT1H
BEGIN:VTIMEZONE
TZID:America/Los_Angeles
BEGIN:DAYLIGHT
TZOFFSETFROM:-0800
TZOFFSETTO:-0700
TZNAME:PDT
DTSTART:20240310T100000
END:DAYLIGHT
BEGIN:STANDARD
TZOFFSETFROM:-0700
TZOFFSETTO:-0800
TZNAME:PST
DTSTART:20241103T090000
END:STANDARD
BEGIN:DAYLIGHT
TZOFFSETFROM:-0800
TZOFFSETTO:-0700
TZNAME:PDT
DTSTART:20250309T100000
END:DAYLIGHT
BEGIN:STANDARD
TZOFFSETFROM:-0700
TZOFFSETTO:-0800
TZNAME:PST
DTSTART:20251102T090000
END:STANDARD
BEGIN:DAYLIGHT
TZOFFSETFROM:-0800
TZOFFSETTO:-0700
TZNAME:PDT
DTSTART:20260308T100000
END:DAYLIGHT
BEGIN:STANDARD
TZOFFSETFROM:-0700
TZOFFSETTO:-0800
TZNAME:PST
DTSTART:20261101T090000
END:STANDARD
END:VTIMEZONE
BEGIN:VEVENT
DTSTART;TZID=America/Los_Angeles:20250208T181500
DTEND;TZID=America/Los_Angeles:20250208T213000
DTSTAMP:20260423T163607
CREATED:20250117T210646Z
LAST-MODIFIED:20250118T002144Z
UID:3625-1739038500-1739050200@www.icajunzydeco.com
SUMMARY:BTSC 2nd Saturday\, “Dancing to the Music” Workshop & CD Dance
DESCRIPTION:BTSC 2nd Saturday “Dancing to the Music” Workshop & CD Dance\nSaturday\, Feb. 8\, 2025\n6:15PM – Doors open\n6:30-8PM – Dance lesson\n8-9:30PM – Open dancing \nWar Memorial Building\n3325 Zoo Dr.\, San Diego\nOnly $5! – cash appreciated \nLarge\, wooden dance floor\nLight snacks provided\nBring potluck to share (but not mandatory)\nWater for purchase or bring your own \nWe will explore Dancing Musicality which refers to a dancer’s ability to hear\, interpret\, and express music through their movements. It’s about understanding the rhythm\, melody\, and nuances of the music and translating those elements into dance. Dancers with strong musicality move in a way that feels synchronized and connected to the music\, making their dancing more engaging and expressive. \n• Learn to capitalize on opportunities by understanding musical phrasing\, and sync yourself in to the soul of a song.\n• Learn to pick the right style of dance to certain types of music; and learn to “borrow” moves from one style of dance and apply it to another.\n• Learn uncommon turns and “moves”\n• Learn “Beyond Lead and Follow” \nWe will cover:\n• Swing\n• Rockabilly\n• Funk\n• Shuffle\n• Slow (Night Club)\n• Waltz Strategies\n• Zydeco\n• Pony \nFacebook Event \nFor questions\, contact Bill Corwin at (619) 222-7772.
URL:https://www.icajunzydeco.com/event/btsc-2nd-saturday-dancing-to-the-music-workshop-cd-dance/
LOCATION:War Memorial Building\, 3325 Zoo Dr.\, San Diego\, CA\, United States
CATEGORIES:2nd Saturday Dance,BTSC Events,Dance Instruction,Dancing,Rockabilly Music,San Diego Area Music,swing music,Western Swing Music,Zydeco Dance
ATTACH;FMTTYPE=image/png:https://www.icajunzydeco.com/wp-content/uploads/2025/01/Feb.-8-dance-flyer.png
END:VEVENT
BEGIN:VEVENT
DTSTART;TZID=America/Los_Angeles:20250111T183000
DTEND;TZID=America/Los_Angeles:20250111T213000
DTSTAMP:20260423T163607
CREATED:20241230T234500Z
LAST-MODIFIED:20241230T235407Z
UID:3615-1736620200-1736631000@www.icajunzydeco.com
SUMMARY:BTSC 2nd Saturday January Dance featuring Mitch Polzak & The Royal Deuces!
DESCRIPTION:Mitch Polzak & The Royal Deuces!\nSaturday\, January 11\, 2025\nWar Memorial Building\, Balboa Park\n3325 Zoo Drive\, San Diego\n$15 \n6:30PM – Free dance lesson\n7:00-9:30PM – Band plays \nThe Bon Temps Social Club is very excited to bring Mitch back to San Diego (perhaps you have enjoyed him at Gator by the Bay)\, to the War Memorial which boasts a large and beautiful wooden dance floor. \nThe big guy from out West and larger than life energy (he’s also 6’5’) is a performer\, guitarist\, singer\, banjoist\, songwriter\, composer\, entertainer\, musical historian and teacher; Mitch Polzak wears his heart on his sleeve and his playing in his heart. \nThere is not one singular definition of Polzak’s music but that is very specific to what he does. Being fluent in the musical languages of Country\, Rockabilly\, Honky Tonk\, The Bakersfield Sound\, Surf\, early Rock and Roll\, Bluegrass\, Cajun\, Blues\, and Truck Driving music gives Polzak the unique voice of the melting pot of the American musical experience. This is why he consistently connects with so many people directly at every show and “reads the audience” for the music he brings each performance. \nPolzak learned firsthand from some of his musical influences\, sharing the stage with legends like Don Maddox of The Maddox Bros. and Rose\, deeply respected contemporary and friend Deke Dickerson\, The Ragin’ Cajun Doug Kershaw\, Rockabilly icons Joe Clay and Gene Summers\, former Bluegrass Boy and West Coast music pioneer Peter Rowan and Cajun greats Jimmy Breaux\, Andrew Carriere\, and Blake Miller. He has also shared the bill with Brian Setzer\, Jerry Lee Lewis\, Duane Eddy\, The Stray Cats\, Big Sandy and The Fly Rite Boys\, and Marty Stuart and His Fabulous Superlatives. \nHope to see you there!!
URL:https://www.icajunzydeco.com/event/3615/
LOCATION:War Memorial Building\, 3325 Zoo Dr.\, San Diego\, CA\, United States
CATEGORIES:2nd Saturday Dance,BTSC Events,Dance Instruction,Dancing,Live Music,Rockabilly Music,San Diego Area Music,swing music,Western Swing Music
ATTACH;FMTTYPE=image/jpeg:https://www.icajunzydeco.com/wp-content/uploads/2024/12/mitch-polzak.jpg
END:VEVENT
END:VCALENDAR