BEGIN:VCALENDAR
VERSION:2.0
PRODID:-//The Bon Temps Social Club of San Diego - ECPv6.15.20//NONSGML v1.0//EN
CALSCALE:GREGORIAN
METHOD:PUBLISH
X-WR-CALNAME:The Bon Temps Social Club of San Diego
X-ORIGINAL-URL:https://www.icajunzydeco.com
X-WR-CALDESC:Events for The Bon Temps Social Club of San Diego
REFRESH-INTERVAL;VALUE=DURATION:PT1H
X-Robots-Tag:noindex
X-PUBLISHED-TTL:PT1H
BEGIN:VTIMEZONE
TZID:America/Los_Angeles
BEGIN:DAYLIGHT
TZOFFSETFROM:-0800
TZOFFSETTO:-0700
TZNAME:PDT
DTSTART:20250309T100000
END:DAYLIGHT
BEGIN:STANDARD
TZOFFSETFROM:-0700
TZOFFSETTO:-0800
TZNAME:PST
DTSTART:20251102T090000
END:STANDARD
BEGIN:DAYLIGHT
TZOFFSETFROM:-0800
TZOFFSETTO:-0700
TZNAME:PDT
DTSTART:20260308T100000
END:DAYLIGHT
BEGIN:STANDARD
TZOFFSETFROM:-0700
TZOFFSETTO:-0800
TZNAME:PST
DTSTART:20261101T090000
END:STANDARD
BEGIN:DAYLIGHT
TZOFFSETFROM:-0800
TZOFFSETTO:-0700
TZNAME:PDT
DTSTART:20270314T100000
END:DAYLIGHT
BEGIN:STANDARD
TZOFFSETFROM:-0700
TZOFFSETTO:-0800
TZNAME:PST
DTSTART:20271107T090000
END:STANDARD
END:VTIMEZONE
BEGIN:VEVENT
DTSTART;TZID=America/Los_Angeles:20260214T190000
DTEND;TZID=America/Los_Angeles:20260214T213000
DTSTAMP:20260424T060749
CREATED:20260129T215254Z
LAST-MODIFIED:20260129T230400Z
UID:3868-1771095600-1771104600@www.icajunzydeco.com
SUMMARY:Saturday Night Dance
DESCRIPTION:Heart•Beats:\nAn Evening of Music\, Dance & Romance\nThis Valentines Day\, bring your sweetheart\, your friends\, or just yourself!\nBILLY LEE & FRIENDS will provide live music for your dancing pleasure at San Diego’s War Memorial Bldg\, 7:30 – 9:30 pm. \nEnjoy a fun (and romantic) mix of music/dance genres: waltz\, swing\, blues\, tango\, and more. Non-dancers are welcome\, and dressing up is encouraged. \n• Doors open at 6:45 pm\n• Waltz lesson at 7:00 pm\n• Live music at 7:30 – 9:30 pm \nONLY $10 at the door\, cash preferred\n• Light refreshments included \nWar Memorial Building\, 3325 Park Blvd\, San Diego \nFacebook Event \nCo-hosted by Bon Temps Social Club and Waltz & Such
URL:https://www.icajunzydeco.com/event/bon-temps-social-club-waltz-such-presents/
LOCATION:Balboa Park’s War Memorial Bldg.\, 3325 Zoo Dr.\, San Diego\, 92101\, United States
CATEGORIES:2nd Saturday Dance,BTSC Events,Community Events,Dance Instruction,Dancing,Live Music,San Diego Area Music,swing music,waltz dancing in san diego
ATTACH;FMTTYPE=image/jpeg:https://www.icajunzydeco.com/wp-content/uploads/2026/01/HeartBeats-card-v2-e1769723039283.jpg
END:VEVENT
END:VCALENDAR