BEGIN:VCALENDAR
VERSION:2.0
PRODID:-//The Bon Temps Social Club of San Diego - ECPv6.15.20//NONSGML v1.0//EN
CALSCALE:GREGORIAN
METHOD:PUBLISH
X-WR-CALNAME:The Bon Temps Social Club of San Diego
X-ORIGINAL-URL:https://www.icajunzydeco.com
X-WR-CALDESC:Events for The Bon Temps Social Club of San Diego
REFRESH-INTERVAL;VALUE=DURATION:PT1H
X-Robots-Tag:noindex
X-PUBLISHED-TTL:PT1H
BEGIN:VTIMEZONE
TZID:America/Los_Angeles
BEGIN:DAYLIGHT
TZOFFSETFROM:-0800
TZOFFSETTO:-0700
TZNAME:PDT
DTSTART:20250309T100000
END:DAYLIGHT
BEGIN:STANDARD
TZOFFSETFROM:-0700
TZOFFSETTO:-0800
TZNAME:PST
DTSTART:20251102T090000
END:STANDARD
BEGIN:DAYLIGHT
TZOFFSETFROM:-0800
TZOFFSETTO:-0700
TZNAME:PDT
DTSTART:20260308T100000
END:DAYLIGHT
BEGIN:STANDARD
TZOFFSETFROM:-0700
TZOFFSETTO:-0800
TZNAME:PST
DTSTART:20261101T090000
END:STANDARD
BEGIN:DAYLIGHT
TZOFFSETFROM:-0800
TZOFFSETTO:-0700
TZNAME:PDT
DTSTART:20270314T100000
END:DAYLIGHT
BEGIN:STANDARD
TZOFFSETFROM:-0700
TZOFFSETTO:-0800
TZNAME:PST
DTSTART:20271107T090000
END:STANDARD
END:VTIMEZONE
BEGIN:VEVENT
DTSTART;VALUE=DATE:20260507
DTEND;VALUE=DATE:20260512
DTSTAMP:20260423T123259
CREATED:20250821T000916Z
LAST-MODIFIED:20260123T184446Z
UID:1354-1778115600-1778461199@www.icajunzydeco.com
SUMMARY:Gator By The Bay 2026
DESCRIPTION:San Diego’s annual Gator By The Bay  is the largest\, most-authentic Louisiana-themed music and food festival this side of the bayou.  Gator By The Bay 2026 will take place May 7 – 10\, 2026 at Spanish Landing Park on the beautiful San Diego Bay\, across from the airport. This weekend-long cultural celebration features four days of live music with more than 100 musical acts and special performances on seven stages. Delicious Cajun and creole foods will be featured including 10\,000 pounds of crawfish trucked straight from Louisiana! \nHeadliners for 2026 include: Jon Cleary & The Absolute Monster Gentlemen (First ever appearance!)\, GRAMMY Award Winner Chubby Carrier\, Geno Delafose & French Rockin’ Boogie\, Rick Estrin & The Nightcats\, The Pine Leaf Boys led by GRAMMY Award Winner Wilson Savoy\, John Németh with the Johnny Vernazza Band\, Kirk Fletcher and The Western Swing Kickoff with Deke Dickerson\, Mitch Polzak and The Prairie Moons. \nGatorByTheBay.com \n 
URL:https://www.icajunzydeco.com/event/gator-by-the-bay/
LOCATION:Spanish Landing Park\, 3900 North Harbor Drive\, San Diego\, CA\, 92101\, United States
CATEGORIES:BTSC Events,Community Events,Dance Instruction,Dancing,Festival,Live Music,Music & Food Festival,San Diego Area Music,Zydeco Dance
ATTACH;FMTTYPE=image/jpeg:https://www.icajunzydeco.com/wp-content/uploads/2024/06/Dennis-Andersen-Photography-9-XL.jpg
ORGANIZER;CN="The Bon Temps Social Club of San Diego":MAILTO:icajunzydeco@gmail.com
END:VEVENT
END:VCALENDAR